BEGIN:VCALENDAR
VERSION:2.0
PRODID:-//Walking Mountains Science Center - ECPv6.15.18//NONSGML v1.0//EN
CALSCALE:GREGORIAN
METHOD:PUBLISH
X-WR-CALNAME:Walking Mountains Science Center
X-ORIGINAL-URL:https://www.walkingmountains.org
X-WR-CALDESC:Events for Walking Mountains Science Center
REFRESH-INTERVAL;VALUE=DURATION:PT1H
X-Robots-Tag:noindex
X-PUBLISHED-TTL:PT1H
BEGIN:VTIMEZONE
TZID:America/Denver
BEGIN:DAYLIGHT
TZOFFSETFROM:-0700
TZOFFSETTO:-0600
TZNAME:MDT
DTSTART:20250309T090000
END:DAYLIGHT
BEGIN:STANDARD
TZOFFSETFROM:-0600
TZOFFSETTO:-0700
TZNAME:MST
DTSTART:20251102T080000
END:STANDARD
BEGIN:DAYLIGHT
TZOFFSETFROM:-0700
TZOFFSETTO:-0600
TZNAME:MDT
DTSTART:20260308T090000
END:DAYLIGHT
BEGIN:STANDARD
TZOFFSETFROM:-0600
TZOFFSETTO:-0700
TZNAME:MST
DTSTART:20261101T080000
END:STANDARD
BEGIN:DAYLIGHT
TZOFFSETFROM:-0700
TZOFFSETTO:-0600
TZNAME:MDT
DTSTART:20270314T090000
END:DAYLIGHT
BEGIN:STANDARD
TZOFFSETFROM:-0600
TZOFFSETTO:-0700
TZNAME:MST
DTSTART:20271107T080000
END:STANDARD
END:VTIMEZONE
BEGIN:VEVENT
DTSTART;TZID=America/Denver:20260420T120000
DTEND;TZID=America/Denver:20260420T124500
DTSTAMP:20260420T065424
CREATED:20260325T160703Z
LAST-MODIFIED:20260325T205200Z
UID:10090989-1776686400-1776689100@www.walkingmountains.org
SUMMARY:Earth Grounding Yoga
DESCRIPTION:Join us for FREE yoga centering on grounding and connecting to the earth. Leave feeling relaxed\, empowered\, and ready to be a good climate leader. Yoga will be held outside in the Meadow at the Walking Mountains Avon Tang Campus if weather permits. \nThis class will be held during lunch and is beginner friendly. Bring your own yoga mat if you have one. \nRegister Here
URL:https://www.walkingmountains.org/event/earth-grounding-yoga/
LOCATION:Avon Campus\, 318 Walking Mountains Lane\, Avon\, CO\, 81620\, United States
CATEGORIES:Sustainability
ATTACH;FMTTYPE=image/webp:https://www.walkingmountains.org/wp-content/uploads/2026/03/wm.img_.event_.caw_.yoga_.921x425.webp
END:VEVENT
END:VCALENDAR