BEGIN:VCALENDAR
VERSION:2.0
PRODID:-//Walking Mountains Science Center - ECPv6.15.18//NONSGML v1.0//EN
CALSCALE:GREGORIAN
METHOD:PUBLISH
X-ORIGINAL-URL:https://www.walkingmountains.org
X-WR-CALDESC:Events for Walking Mountains Science Center
REFRESH-INTERVAL;VALUE=DURATION:PT1H
X-Robots-Tag:noindex
X-PUBLISHED-TTL:PT1H
BEGIN:VTIMEZONE
TZID:America/Denver
BEGIN:DAYLIGHT
TZOFFSETFROM:-0700
TZOFFSETTO:-0600
TZNAME:MDT
DTSTART:20250309T090000
END:DAYLIGHT
BEGIN:STANDARD
TZOFFSETFROM:-0600
TZOFFSETTO:-0700
TZNAME:MST
DTSTART:20251102T080000
END:STANDARD
BEGIN:DAYLIGHT
TZOFFSETFROM:-0700
TZOFFSETTO:-0600
TZNAME:MDT
DTSTART:20260308T090000
END:DAYLIGHT
BEGIN:STANDARD
TZOFFSETFROM:-0600
TZOFFSETTO:-0700
TZNAME:MST
DTSTART:20261101T080000
END:STANDARD
BEGIN:DAYLIGHT
TZOFFSETFROM:-0700
TZOFFSETTO:-0600
TZNAME:MDT
DTSTART:20270314T090000
END:DAYLIGHT
BEGIN:STANDARD
TZOFFSETFROM:-0600
TZOFFSETTO:-0700
TZNAME:MST
DTSTART:20271107T080000
END:STANDARD
END:VTIMEZONE
BEGIN:VEVENT
DTSTART;TZID=America/Denver:20260202T190000
DTEND;TZID=America/Denver:20260202T220000
DTSTAMP:20260420T032151
CREATED:20251222T225014Z
LAST-MODIFIED:20251222T225014Z
UID:10090282-1770058800-1770069600@www.walkingmountains.org
SUMMARY:Full Moon Snowshoe Experience
DESCRIPTION:Join a Walking Mountains guide for an evening of snowshoeing under the glowing full moon. This program makes for the perfect moonlit date night! We will snowshoe under the full moon to a backcountry bonfire and learn about winter and animal adaptations to the nocturnal environment. Please be prepared to be outside in the snow from 7 pm – 10 pm.
URL:https://www.walkingmountains.org/event/full-moon-snowshoe-experience/2026-02-02/
CATEGORIES:Adult,Family
ATTACH;FMTTYPE=image/png:https://www.walkingmountains.org/wp-content/uploads/2025/12/Full-Moon-Experience.png
END:VEVENT
BEGIN:VEVENT
DTSTART;TZID=America/Denver:20260206T090000
DTEND;TZID=America/Denver:20260206T130000
DTSTAMP:20260420T032151
CREATED:20251222T223505Z
LAST-MODIFIED:20251222T224253Z
UID:10090271-1770368400-1770382800@www.walkingmountains.org
SUMMARY:Backcountry Snowshoe Hike
DESCRIPTION:Join a Walking Mountains guide this winter for a backcountry snowshoe excursion into the White River National Forest! Perfect for those seeking a tranquil winter experience far from the ski slopes\, these hikes offer the perfect introduction to winter backcountry exploration. Each hike will focus on a specific topic like “winter communities\,” “snowscience & the subnivean environment\,” “winter plants\,” or “winter art in nature.” \nWhether you are up for hiking to some of the best vistas in the Vail area\, or prefer to enjoy a slower paced backcountry experience exploring the secrets of Colorado’s wildlife and snowpack\, we guarantee you will leave the day with new and unforgettable experiences! Learn more about each of our backcountry snowshoe explorations below\, and sign up for your adventure today! \nHot drinks\, snowshoes\, and poles are included.
URL:https://www.walkingmountains.org/event/backcountry-snowshoe-hike/2026-02-06/
CATEGORIES:Adult
ATTACH;FMTTYPE=image/png:https://www.walkingmountains.org/wp-content/uploads/2025/12/Backcountry-Snowshoe.png
END:VEVENT
BEGIN:VEVENT
DTSTART;TZID=America/Denver:20260213T090000
DTEND;TZID=America/Denver:20260213T130000
DTSTAMP:20260420T032151
CREATED:20251222T223505Z
LAST-MODIFIED:20251222T224253Z
UID:10090272-1770973200-1770987600@www.walkingmountains.org
SUMMARY:Backcountry Snowshoe Hike
DESCRIPTION:Join a Walking Mountains guide this winter for a backcountry snowshoe excursion into the White River National Forest! Perfect for those seeking a tranquil winter experience far from the ski slopes\, these hikes offer the perfect introduction to winter backcountry exploration. Each hike will focus on a specific topic like “winter communities\,” “snowscience & the subnivean environment\,” “winter plants\,” or “winter art in nature.” \nWhether you are up for hiking to some of the best vistas in the Vail area\, or prefer to enjoy a slower paced backcountry experience exploring the secrets of Colorado’s wildlife and snowpack\, we guarantee you will leave the day with new and unforgettable experiences! Learn more about each of our backcountry snowshoe explorations below\, and sign up for your adventure today! \nHot drinks\, snowshoes\, and poles are included.
URL:https://www.walkingmountains.org/event/backcountry-snowshoe-hike/2026-02-13/
CATEGORIES:Adult
ATTACH;FMTTYPE=image/png:https://www.walkingmountains.org/wp-content/uploads/2025/12/Backcountry-Snowshoe.png
END:VEVENT
BEGIN:VEVENT
DTSTART;TZID=America/Denver:20260219T180000
DTEND;TZID=America/Denver:20260219T193000
DTSTAMP:20260420T032151
CREATED:20260102T205127Z
LAST-MODIFIED:20260102T213430Z
UID:10090284-1771524000-1771529400@www.walkingmountains.org
SUMMARY:Climate Speaker: Dr. Katharine Hayhoe
DESCRIPTION:Katharine Hayhoe is an atmospheric scientist whose work bridges climate science\, risks\, and resilience. As Chief Scientist for The Nature Conservancy\, she directs the organization’s global scientific strategy and leads a global community of more than 1\,000 TNC scientists and science staff whose work underpins every aspect of TNC’s mission: from conserving lands and waters to developing scalable\, science-based solutions to the biodiversity and climate crises. \nRecognized among the TIME100 most influential people and a United Nations Champion of the Earth\, Katharine is known worldwide for her ability to make complex science accessible and meaningful\, and for connecting climate and nature to people’s values in ways that inspire action.
URL:https://www.walkingmountains.org/event/climate-speaker-dr-katharine-hayhoe/
LOCATION:Colorado Mountain College\, United States
CATEGORIES:Adult,Free
ATTACH;FMTTYPE=image/png:https://www.walkingmountains.org/wp-content/uploads/2026/01/Climate-Speaker-Series.png
END:VEVENT
BEGIN:VEVENT
DTSTART;TZID=America/Denver:20260220T090000
DTEND;TZID=America/Denver:20260220T130000
DTSTAMP:20260420T032151
CREATED:20251222T223505Z
LAST-MODIFIED:20251222T224253Z
UID:10090273-1771578000-1771592400@www.walkingmountains.org
SUMMARY:Backcountry Snowshoe Hike
DESCRIPTION:Join a Walking Mountains guide this winter for a backcountry snowshoe excursion into the White River National Forest! Perfect for those seeking a tranquil winter experience far from the ski slopes\, these hikes offer the perfect introduction to winter backcountry exploration. Each hike will focus on a specific topic like “winter communities\,” “snowscience & the subnivean environment\,” “winter plants\,” or “winter art in nature.” \nWhether you are up for hiking to some of the best vistas in the Vail area\, or prefer to enjoy a slower paced backcountry experience exploring the secrets of Colorado’s wildlife and snowpack\, we guarantee you will leave the day with new and unforgettable experiences! Learn more about each of our backcountry snowshoe explorations below\, and sign up for your adventure today! \nHot drinks\, snowshoes\, and poles are included.
URL:https://www.walkingmountains.org/event/backcountry-snowshoe-hike/2026-02-20/
CATEGORIES:Adult
ATTACH;FMTTYPE=image/png:https://www.walkingmountains.org/wp-content/uploads/2025/12/Backcountry-Snowshoe.png
END:VEVENT
BEGIN:VEVENT
DTSTART;TZID=America/Denver:20260227T090000
DTEND;TZID=America/Denver:20260227T130000
DTSTAMP:20260420T032151
CREATED:20251222T223505Z
LAST-MODIFIED:20251222T224253Z
UID:10090274-1772182800-1772197200@www.walkingmountains.org
SUMMARY:Backcountry Snowshoe Hike
DESCRIPTION:Join a Walking Mountains guide this winter for a backcountry snowshoe excursion into the White River National Forest! Perfect for those seeking a tranquil winter experience far from the ski slopes\, these hikes offer the perfect introduction to winter backcountry exploration. Each hike will focus on a specific topic like “winter communities\,” “snowscience & the subnivean environment\,” “winter plants\,” or “winter art in nature.” \nWhether you are up for hiking to some of the best vistas in the Vail area\, or prefer to enjoy a slower paced backcountry experience exploring the secrets of Colorado’s wildlife and snowpack\, we guarantee you will leave the day with new and unforgettable experiences! Learn more about each of our backcountry snowshoe explorations below\, and sign up for your adventure today! \nHot drinks\, snowshoes\, and poles are included.
URL:https://www.walkingmountains.org/event/backcountry-snowshoe-hike/2026-02-27/
CATEGORIES:Adult
ATTACH;FMTTYPE=image/png:https://www.walkingmountains.org/wp-content/uploads/2025/12/Backcountry-Snowshoe.png
END:VEVENT
END:VCALENDAR