BEGIN:VCALENDAR
VERSION:2.0
PRODID:-//Walking Mountains Science Center - ECPv6.15.18//NONSGML v1.0//EN
CALSCALE:GREGORIAN
METHOD:PUBLISH
X-ORIGINAL-URL:https://www.walkingmountains.org
X-WR-CALDESC:Events for Walking Mountains Science Center
REFRESH-INTERVAL;VALUE=DURATION:PT1H
X-Robots-Tag:noindex
X-PUBLISHED-TTL:PT1H
BEGIN:VTIMEZONE
TZID:America/Denver
BEGIN:DAYLIGHT
TZOFFSETFROM:-0700
TZOFFSETTO:-0600
TZNAME:MDT
DTSTART:20250309T090000
END:DAYLIGHT
BEGIN:STANDARD
TZOFFSETFROM:-0600
TZOFFSETTO:-0700
TZNAME:MST
DTSTART:20251102T080000
END:STANDARD
BEGIN:DAYLIGHT
TZOFFSETFROM:-0700
TZOFFSETTO:-0600
TZNAME:MDT
DTSTART:20260308T090000
END:DAYLIGHT
BEGIN:STANDARD
TZOFFSETFROM:-0600
TZOFFSETTO:-0700
TZNAME:MST
DTSTART:20261101T080000
END:STANDARD
BEGIN:DAYLIGHT
TZOFFSETFROM:-0700
TZOFFSETTO:-0600
TZNAME:MDT
DTSTART:20270314T090000
END:DAYLIGHT
BEGIN:STANDARD
TZOFFSETFROM:-0600
TZOFFSETTO:-0700
TZNAME:MST
DTSTART:20271107T080000
END:STANDARD
END:VTIMEZONE
BEGIN:VEVENT
DTSTART;TZID=America/Denver:20260420T180000
DTEND;TZID=America/Denver:20260420T200000
DTSTAMP:20260420T145550
CREATED:20260325T234618Z
LAST-MODIFIED:20260326T162451Z
UID:10090998-1776708000-1776715200@www.walkingmountains.org
SUMMARY:Sustainability Trivia
DESCRIPTION:Have some fun and learn about sustainability with the Palmer Fund’s Sustainability Trivia! Bring your friends for a beer or a snack at Capitol Public House to test your knowledge and score AMAZING prizes! \nLive music will start at 5:00 pm and trivia will start at 6:00 pm. \nRegister Here
URL:https://www.walkingmountains.org/event/sustainability-trivia/
LOCATION:Partner Location\, United States
CATEGORIES:Adult,Free,Sustainability
ATTACH;FMTTYPE=image/jpeg:https://www.walkingmountains.org/wp-content/uploads/2026/03/wm.img_.event_.trivia.921x425.jpg
END:VEVENT
END:VCALENDAR