BEGIN:VCALENDAR
VERSION:2.0
PRODID:-//Walking Mountains Science Center - ECPv6.15.18//NONSGML v1.0//EN
CALSCALE:GREGORIAN
METHOD:PUBLISH
X-ORIGINAL-URL:https://www.walkingmountains.org
X-WR-CALDESC:Events for Walking Mountains Science Center
REFRESH-INTERVAL;VALUE=DURATION:PT1H
X-Robots-Tag:noindex
X-PUBLISHED-TTL:PT1H
BEGIN:VTIMEZONE
TZID:America/Denver
BEGIN:DAYLIGHT
TZOFFSETFROM:-0700
TZOFFSETTO:-0600
TZNAME:MDT
DTSTART:20240310T090000
END:DAYLIGHT
BEGIN:STANDARD
TZOFFSETFROM:-0600
TZOFFSETTO:-0700
TZNAME:MST
DTSTART:20241103T080000
END:STANDARD
BEGIN:DAYLIGHT
TZOFFSETFROM:-0700
TZOFFSETTO:-0600
TZNAME:MDT
DTSTART:20250309T090000
END:DAYLIGHT
BEGIN:STANDARD
TZOFFSETFROM:-0600
TZOFFSETTO:-0700
TZNAME:MST
DTSTART:20251102T080000
END:STANDARD
BEGIN:DAYLIGHT
TZOFFSETFROM:-0700
TZOFFSETTO:-0600
TZNAME:MDT
DTSTART:20260308T090000
END:DAYLIGHT
BEGIN:STANDARD
TZOFFSETFROM:-0600
TZOFFSETTO:-0700
TZNAME:MST
DTSTART:20261101T080000
END:STANDARD
BEGIN:DAYLIGHT
TZOFFSETFROM:-0700
TZOFFSETTO:-0600
TZNAME:MDT
DTSTART:20270314T090000
END:DAYLIGHT
BEGIN:STANDARD
TZOFFSETFROM:-0600
TZOFFSETTO:-0700
TZNAME:MST
DTSTART:20271107T080000
END:STANDARD
END:VTIMEZONE
BEGIN:VEVENT
DTSTART;TZID=America/Denver:20260422T163000
DTEND;TZID=America/Denver:20260422T183000
DTSTAMP:20260425T061754
CREATED:20260325T235835Z
LAST-MODIFIED:20260414T214229Z
UID:10091003-1776875400-1776882600@www.walkingmountains.org
SUMMARY:Sole Power Plus Happy Hour
DESCRIPTION:Join us for a Sole Power Plus Earth Day Happy Hour at Ein Prosit in Avon! Enjoy free food and drink and win AMAZING prizes if you tracked a trip on the Sole Power Plus app during Climate Action Week. This is your chance to win an Aventon e-bike.
URL:https://www.walkingmountains.org/event/sole-power-plus-happy-hour/
LOCATION:Ein Prosit\, 82 East Beaver Creek Blvd\, Avon\, CO\, 81620\, United States
CATEGORIES:Adult,Free,Sustainability
ATTACH;FMTTYPE=image/webp:https://www.walkingmountains.org/wp-content/uploads/2026/03/wm.img_.event_.solepower.921x425.webp
END:VEVENT
BEGIN:VEVENT
DTSTART;TZID=America/Denver:20260408T174500
DTEND;TZID=America/Denver:20260408T191500
DTSTAMP:20260425T061754
CREATED:20260326T194306Z
LAST-MODIFIED:20260326T194306Z
UID:10091005-1775670300-1775675700@www.walkingmountains.org
SUMMARY:Science Fair (BCES\, EVES\, GES\, RHES)
DESCRIPTION:Science Fair – \n\nBrush Creek Elementary School\nEagle Valley Elementary School\nGypsum Elementary School\nRed Hill Elementary School
URL:https://www.walkingmountains.org/event/science-fair-bces-eves-ges-rhes/
LOCATION:Avon Campus\, 318 Walking Mountains Lane\, Avon\, CO\, 81620\, United States
ATTACH;FMTTYPE=image/jpeg:https://www.walkingmountains.org/wp-content/uploads/2026/03/wm.science.fair_.stem_.jpg
END:VEVENT
BEGIN:VEVENT
DTSTART;TZID=America/Denver:20260407T183000
DTEND;TZID=America/Denver:20260407T203000
DTSTAMP:20260425T061754
CREATED:20251016T192812Z
LAST-MODIFIED:20260113T205437Z
UID:10089432-1775586600-1775593800@www.walkingmountains.org
SUMMARY:The Sustainable Film Series - The Engine Inside
DESCRIPTION:The Engine Inside\nThe Engine Inside is a documentary that follows six people from around the world whose lives have been reshaped by the bicycle. Each story shows how riding can be more than just getting from one place to another—it can be a tool for tackling issues like climate change\, social inequality\, and even personal healing. Woven together\, these experiences highlight the bike as a simple yet powerful force for freedom\, resilience\, and connection\, reminding us that two wheels can spark meaningful change. \nWatch the Trailer \nThe Sustainable Film Series. Provoking Thought. Creating Action.\nThe Sustainable Film Series raises awareness and encourages community dialogue about environmental issues afflicting our world through award-winning independent featured films. This year Walking Mountains will continue to provide films at Riverwalk Theater in Edwards. A virtual option may also be available for those not able to attend in person. All films start at 6:30pm and are free and open to the public. \nCome Early!\nShowtime starts at 6:30 p.m.\, but we encourage attendees to gather and connect at the Riverwalk Theater early. Enjoy food and drink at La Casa and mingle with our community of supporters. By supporting the Riverwalk Theater\, you help us offer the program free to all attendees. See you at the Riverwalk!
URL:https://www.walkingmountains.org/event/the-sustainable-film-series-the-engine-inside/
LOCATION:The Riverwalk Theater\, 34253 US-6\, Edwards\, CO\, 81632\, United States
CATEGORIES:Adult,Sustainability
ATTACH;FMTTYPE=image/png:https://www.walkingmountains.org/wp-content/uploads/2025/10/wm.website.event_.the_.engine.inside.921x425.png
END:VEVENT
BEGIN:VEVENT
DTSTART;TZID=America/Denver:20260407T174500
DTEND;TZID=America/Denver:20260407T191500
DTSTAMP:20260425T061754
CREATED:20260326T193524Z
LAST-MODIFIED:20260326T193848Z
UID:10091004-1775583900-1775589300@www.walkingmountains.org
SUMMARY:Science Fair (AES\, EES\, HPS\, & RSES)
DESCRIPTION:Science Fair – \n\nAvon Elementary School\nEdwards Elementary School\nHomestake Peak School\nRed Sandstone Elementary School
URL:https://www.walkingmountains.org/event/science-fair-aes-ees-hps-rses/
LOCATION:Avon Campus\, 318 Walking Mountains Lane\, Avon\, CO\, 81620\, United States
ATTACH;FMTTYPE=image/jpeg:https://www.walkingmountains.org/wp-content/uploads/2026/03/wm.science.fair_.stem_.jpg
END:VEVENT
BEGIN:VEVENT
DTSTART;TZID=America/Denver:20260320T090000
DTEND;TZID=America/Denver:20260320T130000
DTSTAMP:20260425T061754
CREATED:20251222T223505Z
LAST-MODIFIED:20251222T224253Z
UID:10090277-1773997200-1774011600@www.walkingmountains.org
SUMMARY:Backcountry Snowshoe Hike
DESCRIPTION:Join a Walking Mountains guide this winter for a backcountry snowshoe excursion into the White River National Forest! Perfect for those seeking a tranquil winter experience far from the ski slopes\, these hikes offer the perfect introduction to winter backcountry exploration. Each hike will focus on a specific topic like “winter communities\,” “snowscience & the subnivean environment\,” “winter plants\,” or “winter art in nature.” \nWhether you are up for hiking to some of the best vistas in the Vail area\, or prefer to enjoy a slower paced backcountry experience exploring the secrets of Colorado’s wildlife and snowpack\, we guarantee you will leave the day with new and unforgettable experiences! Learn more about each of our backcountry snowshoe explorations below\, and sign up for your adventure today! \nHot drinks\, snowshoes\, and poles are included.
URL:https://www.walkingmountains.org/event/backcountry-snowshoe-hike/2026-03-20/
CATEGORIES:Adult
ATTACH;FMTTYPE=image/png:https://www.walkingmountains.org/wp-content/uploads/2025/12/Backcountry-Snowshoe.png
END:VEVENT
BEGIN:VEVENT
DTSTART;TZID=America/Denver:20260312T180000
DTEND;TZID=America/Denver:20260312T193000
DTSTAMP:20260425T061754
CREATED:20260206T174338Z
LAST-MODIFIED:20260206T174338Z
UID:10090914-1773338400-1773343800@www.walkingmountains.org
SUMMARY:Climate Speaker: Caroline Gleich
DESCRIPTION:Caroline Gleich is a professional ski mountaineer\, endurance athlete\, TEDx speaker\, and former U.S. Senate candidate from Utah who blends elite adventure with bold advocacy for climate\, democracy\, and social justice. She has climbed and skied hundreds of peaks worldwide\, including Everest\, Cho Oyu\, and Antarctica’s Mt. Vinson\, and is the first woman to ski all 90 lines in The Chuting Gallery. \nA frequent congressional witness on climate and public lands\, Caroline works with national and grassroots organizations to mobilize communities and protect the places we love. Through film\, writing\, and a global social media following\, she challenges audiences to see leadership as an active\, everyday practice—rooted in courage\, compassion\, and action.
URL:https://www.walkingmountains.org/event/climate-speaker-caroline-gleich/
CATEGORIES:Adult,Free
ATTACH;FMTTYPE=image/png:https://www.walkingmountains.org/wp-content/uploads/2026/01/Climate-Speaker-Series.png
END:VEVENT
BEGIN:VEVENT
DTSTART;TZID=America/Denver:20260303T190000
DTEND;TZID=America/Denver:20260303T220000
DTSTAMP:20260425T061754
CREATED:20251222T225014Z
LAST-MODIFIED:20251222T225014Z
UID:10090283-1772564400-1772575200@www.walkingmountains.org
SUMMARY:Full Moon Snowshoe Experience
DESCRIPTION:Join a Walking Mountains guide for an evening of snowshoeing under the glowing full moon. This program makes for the perfect moonlit date night! We will snowshoe under the full moon to a backcountry bonfire and learn about winter and animal adaptations to the nocturnal environment. Please be prepared to be outside in the snow from 7 pm – 10 pm.
URL:https://www.walkingmountains.org/event/full-moon-snowshoe-experience/2026-03-03/
CATEGORIES:Adult,Family
ATTACH;FMTTYPE=image/png:https://www.walkingmountains.org/wp-content/uploads/2025/12/Full-Moon-Experience.png
END:VEVENT
BEGIN:VEVENT
DTSTART;TZID=America/Denver:20251120T090000
DTEND;TZID=America/Denver:20251120T120000
DTSTAMP:20260425T061754
CREATED:20250825T151029Z
LAST-MODIFIED:20250825T151127Z
UID:10087354-1763629200-1763640000@www.walkingmountains.org
SUMMARY:Free Community Recycling Tour
DESCRIPTION:Join us for a FREE tour of the Eagle County recycling\, landfill\, and household hazardous waste facilities and the compost facility at Vail Honeywagon! The guided tours will be held in English and Spanish\, and they are open to all through our quarterly community tours. Tours start at 9am and last about 3 hours. Once you have signed up you will be contacted with information. Registration is required.  \nRegister Here \n 
URL:https://www.walkingmountains.org/event/free-community-recycling-tour/2025-11-20/
CATEGORIES:Adult,Free,Sustainability
ATTACH;FMTTYPE=image/jpeg:https://www.walkingmountains.org/wp-content/uploads/2025/08/Recycling-Tour.jpg
END:VEVENT
BEGIN:VEVENT
DTSTART;TZID=America/Denver:20250903T183000
DTEND;TZID=America/Denver:20250903T200000
DTSTAMP:20260425T061754
CREATED:20250825T143747Z
LAST-MODIFIED:20251205T210028Z
UID:10087322-1756924200-1756929600@www.walkingmountains.org
SUMMARY:Science Behind - Making Your Home Bird Safe
DESCRIPTION:One billion plus birds are killed by window collisions each year in North America. In this Science Behind we explore what makes windows so dangerous for our feathered friends and the treatments you can install to help the built environment more bird safe. Participants will get a chance to make their own acopian curtain to take home to reduce bird strikes.
URL:https://www.walkingmountains.org/event/science-behind-making-your-home-bird-safe/
LOCATION:Avon Campus\, 318 Walking Mountains Lane\, Avon\, CO\, 81620\, United States
CATEGORIES:Adult
ATTACH;FMTTYPE=image/jpeg:https://www.walkingmountains.org/wp-content/uploads/2025/08/Window-300x300-1.jpg
END:VEVENT
END:VCALENDAR